BEGIN:VCALENDAR
VERSION:2.0
PRODID:-//Armfield Farm - ECPv6.15.16//NONSGML v1.0//EN
CALSCALE:GREGORIAN
METHOD:PUBLISH
X-ORIGINAL-URL:https://www.armfieldfarm.org
X-WR-CALDESC:Events for Armfield Farm
REFRESH-INTERVAL;VALUE=DURATION:PT1H
X-Robots-Tag:noindex
X-PUBLISHED-TTL:PT1H
BEGIN:VTIMEZONE
TZID:UTC
BEGIN:STANDARD
TZOFFSETFROM:+0000
TZOFFSETTO:+0000
TZNAME:UTC
DTSTART:20150101T000000
END:STANDARD
END:VTIMEZONE
BEGIN:VEVENT
DTSTART;TZID=UTC:20160802T180000
DTEND;TZID=UTC:20160802T200000
DTSTAMP:20260425T154634
CREATED:20160730T135901Z
LAST-MODIFIED:20160730T140941Z
UID:1026-1470160800-1470168000@www.armfieldfarm.org
SUMMARY:National Night Out
DESCRIPTION:Tuesday\, August 2nd 2016 from 6 PM to 8 PM. \nNational Night Out is an annual community-building campaign that promotes police-community partnerships and neighborhood camaraderie to make our neighborhoods safer\, better places to live. Together\, we are making that happen. \nNational Project Coordinator\, Matt Peskin said\, “This is a night for America to stand together and promote awareness\, safety\, and neighborhood unity. National Night Out showcases the vital importance of police-community partnerships and citizen involvement. When law enforcement and the community work closely together\, some amazing things can happen.” \nFrom 6 pm to 8 pm\, neighbors in Armfield Farm community and across the nation are asked to lock their doors\, turn on your front porch lights and spend the evening outside with neighbors and law enforcement. \nJoin the event with a local food truck (Guapo’s)*\, beverages\, ice cream\, bouncy house and local law enforcement at our pool house! \n*Residents will be responsible for paying food truck vendor prices
URL:https://www.armfieldfarm.org/event/national-night-out/
LOCATION:Armfield Farm Pool\, 3567 Armfield Farm Dr\, Chantilly\, VA\, 20151\, United States
CATEGORIES:HOA Events,Social Events
ORGANIZER;CN="Social Committee":MAILTO:social@armfieldfarm.org
END:VEVENT
BEGIN:VEVENT
DTSTART;TZID=UTC:20160730T060000
DTEND;TZID=UTC:20160730T110000
DTSTAMP:20260425T154634
CREATED:20160714T140655Z
LAST-MODIFIED:20160714T140727Z
UID:610-1469858400-1469876400@www.armfieldfarm.org
SUMMARY:Blue Divisionals @ Franklin Glen
DESCRIPTION:
URL:https://www.armfieldfarm.org/event/blue-divisionals-franklin-glen/
CATEGORIES:Swim Team Events
END:VEVENT
BEGIN:VEVENT
DTSTART;TZID=UTC:20160723T070000
DTEND;TZID=UTC:20160723T110000
DTSTAMP:20260425T154634
CREATED:20160714T140345Z
LAST-MODIFIED:20160714T140831Z
UID:609-1469257200-1469271600@www.armfieldfarm.org
SUMMARY:"A" Swim Meet
DESCRIPTION:Armfield Farm @ Chantilly Highlands
URL:https://www.armfieldfarm.org/event/a-swim-meet-2/
CATEGORIES:Swim Team Events
END:VEVENT
BEGIN:VEVENT
DTSTART;TZID=UTC:20160720T070000
DTEND;TZID=UTC:20160720T110000
DTSTAMP:20260425T154634
CREATED:20160714T120014Z
LAST-MODIFIED:20160714T140837Z
UID:606-1468998000-1469012400@www.armfieldfarm.org
SUMMARY:"B" Swim Meet
DESCRIPTION:Franklin Farm @ Armfield Farm (Pool Closes @ 4pm)
URL:https://www.armfieldfarm.org/event/b-swim-meet/
LOCATION:Armfield Farm Pool\, 3567 Armfield Farm Dr\, Chantilly\, VA\, 20151\, United States
CATEGORIES:Swim Team Events
END:VEVENT
BEGIN:VEVENT
DTSTART;TZID=UTC:20160716T070000
DTEND;TZID=UTC:20160716T110000
DTSTAMP:20260425T154634
CREATED:20160711T070002Z
LAST-MODIFIED:20160714T140844Z
UID:605-1468652400-1468666800@www.armfieldfarm.org
SUMMARY:"A" Swim Meet
DESCRIPTION:Franklin Glen @ Armfield Farm \n 
URL:https://www.armfieldfarm.org/event/a-swim-meet/
LOCATION:Armfield Farm Pool\, 3567 Armfield Farm Dr\, Chantilly\, VA\, 20151\, United States
CATEGORIES:Swim Team Events
END:VEVENT
END:VCALENDAR