BEGIN:VCALENDAR
VERSION:2.0
PRODID:-//Armfield Farm - ECPv6.15.16//NONSGML v1.0//EN
CALSCALE:GREGORIAN
METHOD:PUBLISH
X-ORIGINAL-URL:https://www.armfieldfarm.org
X-WR-CALDESC:Events for Armfield Farm
REFRESH-INTERVAL;VALUE=DURATION:PT1H
X-Robots-Tag:noindex
X-PUBLISHED-TTL:PT1H
BEGIN:VTIMEZONE
TZID:UTC
BEGIN:STANDARD
TZOFFSETFROM:+0000
TZOFFSETTO:+0000
TZNAME:UTC
DTSTART:20150101T000000
END:STANDARD
END:VTIMEZONE
BEGIN:VTIMEZONE
TZID:America/New_York
BEGIN:DAYLIGHT
TZOFFSETFROM:-0500
TZOFFSETTO:-0400
TZNAME:EDT
DTSTART:20150308T070000
END:DAYLIGHT
BEGIN:STANDARD
TZOFFSETFROM:-0400
TZOFFSETTO:-0500
TZNAME:EST
DTSTART:20151101T060000
END:STANDARD
BEGIN:DAYLIGHT
TZOFFSETFROM:-0500
TZOFFSETTO:-0400
TZNAME:EDT
DTSTART:20160313T070000
END:DAYLIGHT
BEGIN:STANDARD
TZOFFSETFROM:-0400
TZOFFSETTO:-0500
TZNAME:EST
DTSTART:20161106T060000
END:STANDARD
BEGIN:DAYLIGHT
TZOFFSETFROM:-0500
TZOFFSETTO:-0400
TZNAME:EDT
DTSTART:20170312T070000
END:DAYLIGHT
BEGIN:STANDARD
TZOFFSETFROM:-0400
TZOFFSETTO:-0500
TZNAME:EST
DTSTART:20171105T060000
END:STANDARD
END:VTIMEZONE
BEGIN:VEVENT
DTSTART;TZID=UTC:20190228T190000
DTEND;TZID=UTC:20190228T220000
DTSTAMP:20260425T121436
CREATED:20190209T220054Z
LAST-MODIFIED:20190209T220054Z
UID:1247-1551380400-1551391200@www.armfieldfarm.org
SUMMARY:HOA Meeting (Feb 2019)
DESCRIPTION:
URL:https://www.armfieldfarm.org/event/hoa-meeting-feb-2019/
LOCATION:Capital Properties\, 3914 Centreville Road Suite 300\, Chantilly\, VA\, 20151\, United States
CATEGORIES:HOA Events
END:VEVENT
BEGIN:VEVENT
DTSTART;TZID=UTC:20170928T190000
DTEND;TZID=UTC:20170928T210000
DTSTAMP:20260425T121436
CREATED:20170927T131641Z
LAST-MODIFIED:20170927T131725Z
UID:1145-1506625200-1506632400@www.armfieldfarm.org
SUMMARY:HOA Meeting (Sept 2017)
DESCRIPTION:
URL:https://www.armfieldfarm.org/event/hoa-meeting-sept-2017/
LOCATION:Capital Properties\, 3914 Centreville Road Suite 300\, Chantilly\, VA\, 20151\, United States
CATEGORIES:HOA Events
END:VEVENT
BEGIN:VEVENT
DTSTART;TZID=UTC:20170525T190000
DTEND;TZID=UTC:20170525T210000
DTSTAMP:20260425T121436
CREATED:20170518T234354Z
LAST-MODIFIED:20170825T170050Z
UID:1070-1495738800-1495746000@www.armfieldfarm.org
SUMMARY:Annual HOA Meeting
DESCRIPTION:
URL:https://www.armfieldfarm.org/event/annual-hoa-meeting/
LOCATION:Franklin Middle School\, 3300 Lees Corner Road\, Chantilly\, VA\, 20151\, United States
CATEGORIES:HOA Events
END:VEVENT
BEGIN:VEVENT
DTSTART;TZID=UTC:20170427T190000
DTEND;TZID=UTC:20170427T210000
DTSTAMP:20260425T121436
CREATED:20170427T154303Z
LAST-MODIFIED:20170427T154427Z
UID:1066-1493319600-1493326800@www.armfieldfarm.org
SUMMARY:HOA Meeting (April)
DESCRIPTION:
URL:https://www.armfieldfarm.org/event/hoa-meeting-april/
LOCATION:Capital Properties\, 3914 Centreville Road Suite 300\, Chantilly\, VA\, 20151\, United States
CATEGORIES:HOA Events
END:VEVENT
BEGIN:VEVENT
DTSTART;TZID=UTC:20170126T190000
DTEND;TZID=UTC:20170126T210000
DTSTAMP:20260425T121436
CREATED:20170121T171712Z
LAST-MODIFIED:20170121T171805Z
UID:1062-1485457200-1485464400@www.armfieldfarm.org
SUMMARY:HOA Meeting (January)
DESCRIPTION:
URL:https://www.armfieldfarm.org/event/hoa-meeting-january/
LOCATION:Capital Properties\, 3914 Centreville Road Suite 300\, Chantilly\, VA\, 20151\, United States
CATEGORIES:HOA Events
END:VEVENT
BEGIN:VEVENT
DTSTART;TZID=America/New_York:20160929T190000
DTEND;TZID=America/New_York:20160929T210000
DTSTAMP:20260425T121436
CREATED:20160711T150117Z
LAST-MODIFIED:20160822T163349Z
UID:537-1475175600-1475182800@www.armfieldfarm.org
SUMMARY:HOA Meeting (September)
DESCRIPTION:
URL:https://www.armfieldfarm.org/event/hoa-meeting-september/
LOCATION:Capital Properties\, 3914 Centreville Road Suite 300\, Chantilly\, VA\, 20151\, United States
CATEGORIES:HOA Events
END:VEVENT
BEGIN:VEVENT
DTSTART;TZID=UTC:20160818T190000
DTEND;TZID=UTC:20160818T210000
DTSTAMP:20260425T121436
CREATED:20160810T164244Z
LAST-MODIFIED:20160810T164444Z
UID:1031-1471546800-1471554000@www.armfieldfarm.org
SUMMARY:HOA Meeting (August)
DESCRIPTION:
URL:https://www.armfieldfarm.org/event/hoa-meeting-august/
LOCATION:Capital Properties\, 3914 Centreville Road Suite 300\, Chantilly\, VA\, 20151\, United States
CATEGORIES:HOA Events
END:VEVENT
BEGIN:VEVENT
DTSTART;TZID=UTC:20160813T110000
DTEND;TZID=UTC:20160813T140000
DTSTAMP:20260425T121436
CREATED:20160714T114439Z
LAST-MODIFIED:20160722T000834Z
UID:598-1471086000-1471096800@www.armfieldfarm.org
SUMMARY:Annual Pool Party
DESCRIPTION:This years pool party will have food\, fun and games for all ages. More details to come on our website
URL:https://www.armfieldfarm.org/event/annual-pool-party/
LOCATION:Armfield Farm Pool\, 3567 Armfield Farm Dr\, Chantilly\, VA\, 20151\, United States
CATEGORIES:HOA Events,Social Events
ORGANIZER;CN="Social Committee":MAILTO:social@armfieldfarm.org
END:VEVENT
BEGIN:VEVENT
DTSTART;TZID=UTC:20160802T180000
DTEND;TZID=UTC:20160802T200000
DTSTAMP:20260425T121436
CREATED:20160730T135901Z
LAST-MODIFIED:20160730T140941Z
UID:1026-1470160800-1470168000@www.armfieldfarm.org
SUMMARY:National Night Out
DESCRIPTION:Tuesday\, August 2nd 2016 from 6 PM to 8 PM. \nNational Night Out is an annual community-building campaign that promotes police-community partnerships and neighborhood camaraderie to make our neighborhoods safer\, better places to live. Together\, we are making that happen. \nNational Project Coordinator\, Matt Peskin said\, “This is a night for America to stand together and promote awareness\, safety\, and neighborhood unity. National Night Out showcases the vital importance of police-community partnerships and citizen involvement. When law enforcement and the community work closely together\, some amazing things can happen.” \nFrom 6 pm to 8 pm\, neighbors in Armfield Farm community and across the nation are asked to lock their doors\, turn on your front porch lights and spend the evening outside with neighbors and law enforcement. \nJoin the event with a local food truck (Guapo’s)*\, beverages\, ice cream\, bouncy house and local law enforcement at our pool house! \n*Residents will be responsible for paying food truck vendor prices
URL:https://www.armfieldfarm.org/event/national-night-out/
LOCATION:Armfield Farm Pool\, 3567 Armfield Farm Dr\, Chantilly\, VA\, 20151\, United States
CATEGORIES:HOA Events,Social Events
ORGANIZER;CN="Social Committee":MAILTO:social@armfieldfarm.org
END:VEVENT
END:VCALENDAR